BEGIN:VCALENDAR
X-LOTUS-CHARSET:UTF-8
VERSION:2.0
PRODID:ZMS-Berlin
METHOD:PUBLISH
BEGIN:VEVENT
UID:zukunft-aus-brandenburg-903
CLASS:PUBLIC
DTSTAMP:20260422T050323
DTSTART;TZID=Europe/Berlin:2026-02-19T08:00:00
DTEND;TZID=Europe/Berlin:2026-02-19T08:00:00
LOCATION:Güterbahnhofstraße 57, 03222, Lübbenau/Spreewald, DE, GLEIS3,
SUMMARY:Kompaktseminar „Flottenelektrifizierung in Brandenburger Unternehmen“
DESCRIPTION:Ziel ist es, Ihnen das Wissen für die ersten Schritte hin zu einer elektrifizierten Pkw- oder Nfz-Flotte an die Hand zu geben.

END:VEVENT
END:VCALENDAR
