BEGIN:VCALENDAR
X-LOTUS-CHARSET:UTF-8
VERSION:2.0
PRODID:ZMS-Berlin
METHOD:PUBLISH
BEGIN:VEVENT
UID:zukunft-aus-brandenburg-2102
CLASS:PUBLIC
DTSTAMP:20260421T205002
DTSTART;TZID=Europe/Berlin:2026-06-25T10:00:00
DTEND;TZID=Europe/Berlin:2026-06-26T10:30:00
LOCATION:Reichenhainer Straße 88, 09126, Chemnitz, DE, Fraunhofer-Institut für Werkzeugmaschinen und Umformtechnik IWU,
SUMMARY:hy.tec – industrielle Fertigung von Wasserstoffsystemen im Fokus
DESCRIPTION:hy.tec mittendrin 2026: Industrielle Produktion von Wasserstoffsystemen im Fokus.

END:VEVENT
END:VCALENDAR
