BEGIN:VCALENDAR
X-LOTUS-CHARSET:UTF-8
VERSION:2.0
PRODID:ZMS-Berlin
METHOD:PUBLISH
BEGIN:VEVENT
UID:zukunft-aus-brandenburg-2050
CLASS:PUBLIC
DTSTAMP:20260421T174113
DTSTART;TZID=Europe/Berlin:2026-06-08T08:00:00
DTEND;TZID=Europe/Berlin:2026-06-08T08:00:00
LOCATION:Kanalstraße 26a, 16515, Oranienburg, DE, Orangerie - Oranienburg,
SUMMARY:Wasserstofftour durch die Regionen Prignitz-Oberhavel / Havelland-Fläming
DESCRIPTION:Wasserstofftour durch die Regionen

END:VEVENT
END:VCALENDAR
